BEGIN:VCALENDAR
VERSION:2.0
PRODID:-//Cambridge Consultants - ECPv6.15.20//NONSGML v1.0//EN
CALSCALE:GREGORIAN
METHOD:PUBLISH
X-WR-CALNAME:Cambridge Consultants
X-ORIGINAL-URL:https://www.cambridgeconsultants.com/jp
X-WR-CALDESC:Events for Cambridge Consultants
REFRESH-INTERVAL;VALUE=DURATION:PT1H
X-Robots-Tag:noindex
X-PUBLISHED-TTL:PT1H
BEGIN:VTIMEZONE
TZID:Europe/London
BEGIN:DAYLIGHT
TZOFFSETFROM:+0000
TZOFFSETTO:+0100
TZNAME:BST
DTSTART:20250330T010000
END:DAYLIGHT
BEGIN:STANDARD
TZOFFSETFROM:+0100
TZOFFSETTO:+0000
TZNAME:GMT
DTSTART:20251026T010000
END:STANDARD
BEGIN:DAYLIGHT
TZOFFSETFROM:+0000
TZOFFSETTO:+0100
TZNAME:BST
DTSTART:20260329T010000
END:DAYLIGHT
BEGIN:STANDARD
TZOFFSETFROM:+0100
TZOFFSETTO:+0000
TZNAME:GMT
DTSTART:20261025T010000
END:STANDARD
BEGIN:DAYLIGHT
TZOFFSETFROM:+0000
TZOFFSETTO:+0100
TZNAME:BST
DTSTART:20270328T010000
END:DAYLIGHT
BEGIN:STANDARD
TZOFFSETFROM:+0100
TZOFFSETTO:+0000
TZNAME:GMT
DTSTART:20271031T010000
END:STANDARD
END:VTIMEZONE
BEGIN:VEVENT
DTSTART;VALUE=DATE:20260420
DTEND;VALUE=DATE:20260422
DTSTAMP:20260420T151931
CREATED:20260408T103847Z
LAST-MODIFIED:20260408T154820Z
UID:20088-1776643200-1776815999@www.cambridgeconsultants.com
SUMMARY:Future of Surgery Festival 2026
DESCRIPTION:The Future of Surgery 2026 will bring together surgeons and surgical teams for a first-of-its-kind UK festival dedicated to the future of surgery. A space for innovation\, inspiration and collaboration\, our vision is to unite the best and brightest minds from all career stages and specialties because your questions\, insights and experiences will help shape the conversations that matter most. And meaningful change happens when we come together. \nCambridge Consultants is delighted to be an event sponsor and will be hosting a panel discussion. If you are attending or would like to participate please come and join us: \nTitle: Scanning the future: Surgery at the AI/quantum frontier\nDate: 20 April 2026\nTime: 2.50pm – 4pm\nSpeakers: \n\nOliver Sowerby – Vice President\, MedTech Innovation\, Cambridge Consultants\nEdmund Owen – Quantum Physicist\, Cambridge Consultants\nJoe Smallman – Technical Lead in AI and Algorithms\, Cambridge Consultants\nRyan Kerstein – https://www.rcsengfutureofsurgeryfestival.co.uk/ryan-kerstein\nTerouz Pasha – https://www.rcsengfutureofsurgeryfestival.co.uk/terouz-pasha\n\nSynopsis: This interactive workshop\, led by Cambridge Consultants and the i-Hub from RCS England\, brings together surgeons and technologists to explore how quantum and AI can be applied to solve clinical challenges. By combining clinical insight with world-leading technical expertise\, participants will learn about cutting-edge technologies and identify high-impact applications for the future of surgery. \n  \nMeet our team
URL:https://www.cambridgeconsultants.com/jp/event/future-of-surgery-festival-2026/
LOCATION:International Convention Centre\, International Convention Centre\, 8 Centenary Square\, Birmingham\, B1 2EA\, United Kingdom
ATTACH;FMTTYPE=image/jpeg:https://www.cambridgeconsultants.com/wp-content/uploads/2026/04/Featured_Event_Future-of-Surgery-Festival-2026.jpg
END:VEVENT
END:VCALENDAR