BEGIN:VCALENDAR
VERSION:2.0
PRODID:-//Cambridge Consultants - ECPv6.15.20//NONSGML v1.0//EN
CALSCALE:GREGORIAN
METHOD:PUBLISH
X-WR-CALNAME:Cambridge Consultants
X-ORIGINAL-URL:https://www.cambridgeconsultants.com/jp
X-WR-CALDESC:Events for Cambridge Consultants
REFRESH-INTERVAL;VALUE=DURATION:PT1H
X-Robots-Tag:noindex
X-PUBLISHED-TTL:PT1H
BEGIN:VTIMEZONE
TZID:America/Phoenix
BEGIN:STANDARD
TZOFFSETFROM:-0700
TZOFFSETTO:-0700
TZNAME:MST
DTSTART:20250101T000000
END:STANDARD
END:VTIMEZONE
BEGIN:VEVENT
DTSTART;VALUE=DATE:20260510
DTEND;VALUE=DATE:20260515
DTSTAMP:20260425T165803
CREATED:20260423T123456Z
LAST-MODIFIED:20260423T123456Z
UID:20171-1778371200-1778803199@www.cambridgeconsultants.com
SUMMARY:RDD (Respiratory Drug Delivery) 2026
DESCRIPTION:Respiratory Drug Delivery (RDD®) 2026 will be held at the Westin Kierland\, Phoenix\, Arizona\, from May 10-14\, 2026. This is the latest Respiratory Drug Delivery conference in a series that has run continuously since 1988 and garnered a sustained reputation for excellent content covering all aspects of drug delivery to the lungs and nose. \nIn-depth presentations and discussion of pioneering science in tandem with exceptional opportunities for networking will appeal to scientists\, engineers\, regulators\, clinicians\, solutions providers\, and business professionals active in this exciting field. \nCambridge Consultants are delighted to be exhibiting at Respiratory Drug Delivery (RDD®) 2026. If you are attending or would like to participate\, please come and join us:
URL:https://www.cambridgeconsultants.com/jp/event/rdd-respiratory-drug-delivery-2026/
LOCATION:The Westin Kierland Resort & Spa\, 6902 E Greenway Pkwy\, Scottsdale\, Phoenix\, AZ\, 85254\, United States
ATTACH;FMTTYPE=image/jpeg:https://www.cambridgeconsultants.com/wp-content/uploads/2026/04/Event-Featured-RDD-2026.jpg
END:VEVENT
END:VCALENDAR